BEGIN:VCALENDAR
VERSION:2.0
PRODID:https://www.kufer.de/kuferweb / DE
METHOD:PUBLISH
CALSCALE:GREGORIAN
X-WR-TIMEZONE:Europe/Berlin
BEGIN:VTIMEZONE
TZID:Europe/Berlin
X-LIC-LOCATION:Europe/Berlin
BEGIN:DAYLIGHT
TZOFFSETFROM:+0100
TZOFFSETTO:+0200
TZNAME:CEST
DTSTART:19700329T020000
RRULE:FREQ=YEARLY;INTERVAL=1;BYDAY=-1SU;BYMONTH=3
END:DAYLIGHT
BEGIN:STANDARD
TZOFFSETFROM:+0200
TZOFFSETTO:+0100
TZNAME:CET
DTSTART:19701025T030000
RRULE:FREQ=YEARLY;INTERVAL=1;BYDAY=-1SU;BYMONTH=10
END:STANDARD
END:VTIMEZONE
BEGIN:VEVENT
DTSTAMP:20260425T140343
DTSTART;TZID=Europe/Berlin:20260619T090000
DTEND;TZID=Europe/Berlin:20260619T120000
UID:261-4I09-20260619T090000@VHSSIMBACH VHS
SUMMARY:Italienisch für den Urlaub (261-4I09) 
LOCATION:Simbach, VHS Simbach, EDV/Sprachraum, Innstraße 18, 84359 Simbach am Inn
END:VEVENT
BEGIN:VEVENT
DTSTAMP:20260425T140343
DTSTART;TZID=Europe/Berlin:20260626T090000
DTEND;TZID=Europe/Berlin:20260626T120000
UID:261-4I09-20260626T090000@VHSSIMBACH VHS
SUMMARY:Italienisch für den Urlaub (261-4I09) 
LOCATION:Simbach, VHS Simbach, EDV/Sprachraum, Innstraße 18, 84359 Simbach am Inn
END:VEVENT
BEGIN:VEVENT
DTSTAMP:20260425T140343
DTSTART;TZID=Europe/Berlin:20260703T090000
DTEND;TZID=Europe/Berlin:20260703T120000
UID:261-4I09-20260703T090000@VHSSIMBACH VHS
SUMMARY:Italienisch für den Urlaub (261-4I09) 
LOCATION:Simbach, VHS Simbach, EDV/Sprachraum, Innstraße 18, 84359 Simbach am Inn
END:VEVENT
END:VCALENDAR